Package: BBCAnalyzer Version: 1.36.0 Command: /home/biocbuild/R/R/bin/R CMD build --keep-empty-dirs --no-resave-data BBCAnalyzer StartedAt: 2025-02-03 21:48:45 -0000 (Mon, 03 Feb 2025) EndedAt: 2025-02-03 21:58:13 -0000 (Mon, 03 Feb 2025) EllapsedTime: 568.1 seconds RetCode: 0 Status: OK PackageFile: BBCAnalyzer_1.36.0.tar.gz PackageFileSize: 2.194 MiB