Package: BCRANK Version: 1.68.0 Command: /Library/Frameworks/R.framework/Resources/bin/R CMD build --keep-empty-dirs --no-resave-data BCRANK StartedAt: 2025-02-03 19:13:14 -0500 (Mon, 03 Feb 2025) EndedAt: 2025-02-03 19:13:45 -0500 (Mon, 03 Feb 2025) EllapsedTime: 30.6 seconds RetCode: 0 Status: OK PackageFile: BCRANK_1.68.0.tar.gz PackageFileSize: 2.903 MiB