Package: BCRANK Version: 1.68.0 Command: rm -rf BCRANK.buildbin-libdir && mkdir BCRANK.buildbin-libdir && /Users/biocbuild/BBS/utils/build-universal.sh BCRANK_1.68.0.tar.gz /Library/Frameworks/R.framework/Resources/bin/R BCRANK.buildbin-libdir StartedAt: 2025-02-04 12:30:32 -0500 (Tue, 04 Feb 2025) EndedAt: 2025-02-04 12:31:04 -0500 (Tue, 04 Feb 2025) EllapsedTime: 31.8 seconds RetCode: 0 Status: OK PackageFile: BCRANK_1.68.0.tgz PackageFileSize: 2.457 MiB