Package: BCRANK Version: 1.68.0 Command: /home/biocbuild/R/R/bin/R CMD INSTALL BCRANK StartedAt: 2025-02-03 20:29:51 -0000 (Mon, 03 Feb 2025) EndedAt: 2025-02-03 20:30:06 -0000 (Mon, 03 Feb 2025) EllapsedTime: 14.5 seconds RetCode: 0 Status: OK