Package: BEAT Version: 1.44.0 Command: /Library/Frameworks/R.framework/Resources/bin/R CMD check --install=check:BEAT.install-out.txt --library=/Library/Frameworks/R.framework/Resources/library --no-vignettes --timings BEAT_1.44.0.tar.gz StartedAt: 2025-02-04 12:13:37 -0500 (Tue, 04 Feb 2025) EndedAt: 2025-02-04 12:18:52 -0500 (Tue, 04 Feb 2025) EllapsedTime: 314.4 seconds RetCode: 0 Status: OK CheckDir: BEAT.Rcheck Warnings: 0