Package: BEAT Version: 1.44.0 Command: /Library/Frameworks/R.framework/Resources/bin/R CMD INSTALL BEAT StartedAt: 2025-02-03 16:11:23 -0500 (Mon, 03 Feb 2025) EndedAt: 2025-02-03 16:12:06 -0500 (Mon, 03 Feb 2025) EllapsedTime: 43.1 seconds RetCode: 0 Status: OK