Package: BEAT Version: 1.44.0 Command: /home/biocbuild/bbs-3.20-bioc/R/bin/R CMD build --keep-empty-dirs --no-resave-data --md5 BEAT StartedAt: 2025-02-03 16:27:50 -0500 (Mon, 03 Feb 2025) EndedAt: 2025-02-03 16:29:06 -0500 (Mon, 03 Feb 2025) EllapsedTime: 76.0 seconds RetCode: 0 Status: OK PackageFile: BEAT_1.44.0.tar.gz PackageFileSize: 3.294 MiB