Package: BERT
Version: 1.2.0
Command: /Library/Frameworks/R.framework/Resources/bin/R CMD check --install=check:BERT.install-out.txt --library=/Library/Frameworks/R.framework/Resources/library --no-vignettes --timings BERT_1.2.0.tar.gz
StartedAt: 2024-11-19 19:46:19 -0500 (Tue, 19 Nov 2024)
EndedAt: 2024-11-19 19:51:02 -0500 (Tue, 19 Nov 2024)
EllapsedTime: 283.3 seconds
RetCode: 0
Status: OK
CheckDir: BERT.Rcheck
Warnings: 0