Package: BERT Version: 1.2.0 Command: /Library/Frameworks/R.framework/Resources/bin/R CMD build --keep-empty-dirs --no-resave-data BERT StartedAt: 2025-02-03 17:16:21 -0500 (Mon, 03 Feb 2025) EndedAt: 2025-02-03 17:17:22 -0500 (Mon, 03 Feb 2025) EllapsedTime: 61.4 seconds RetCode: 0 Status: OK PackageFile: BERT_1.2.0.tar.gz PackageFileSize: 257.3 KiB