Package: BERT Version: 1.2.0 Command: /Library/Frameworks/R.framework/Resources/bin/R CMD INSTALL BERT StartedAt: 2025-02-03 16:21:00 -0500 (Mon, 03 Feb 2025) EndedAt: 2025-02-03 16:21:06 -0500 (Mon, 03 Feb 2025) EllapsedTime: 5.4 seconds RetCode: 0 Status: OK