Package: BERT Version: 1.2.0 Command: chmod a+r BERT -R && F:\biocbuild\bbs-3.20-bioc\R\bin\R.exe CMD build --keep-empty-dirs --no-resave-data BERT StartedAt: 2025-02-03 17:39:57 -0500 (Mon, 03 Feb 2025) EndedAt: 2025-02-03 17:41:16 -0500 (Mon, 03 Feb 2025) EllapsedTime: 79.2 seconds RetCode: 0 Status: OK PackageFile: BERT_1.2.0.tar.gz PackageFileSize: 257.6 KiB