Package: BERT Version: 1.2.0 Command: /home/biocbuild/R/R/bin/R CMD build --keep-empty-dirs --no-resave-data BERT StartedAt: 2025-02-03 21:53:05 -0000 (Mon, 03 Feb 2025) EndedAt: 2025-02-03 21:53:34 -0000 (Mon, 03 Feb 2025) EllapsedTime: 29.0 seconds RetCode: 0 Status: OK PackageFile: BERT_1.2.0.tar.gz PackageFileSize: 283.6 KiB