Package: BEclear Version: 2.22.0 Command: rm -rf BEclear.buildbin-libdir && mkdir BEclear.buildbin-libdir && /Users/biocbuild/BBS/utils/build-universal.sh BEclear_2.22.0.tar.gz /Library/Frameworks/R.framework/Resources/bin/R BEclear.buildbin-libdir StartedAt: 2025-02-01 14:00:53 -0500 (Sat, 01 Feb 2025) EndedAt: 2025-02-01 14:01:08 -0500 (Sat, 01 Feb 2025) EllapsedTime: 14.3 seconds RetCode: 0 Status: OK PackageFile: BEclear_2.22.0.tgz PackageFileSize: 796.5 KiB