Package: BEclear Version: 2.22.0 Command: /Library/Frameworks/R.framework/Resources/bin/R CMD INSTALL BEclear StartedAt: 2025-02-03 15:52:39 -0500 (Mon, 03 Feb 2025) EndedAt: 2025-02-03 15:52:53 -0500 (Mon, 03 Feb 2025) EllapsedTime: 14.7 seconds RetCode: 0 Status: OK