Package: BEclear Version: 2.22.0 Command: /home/biocbuild/R/R/bin/R CMD build --keep-empty-dirs --no-resave-data BEclear StartedAt: 2024-11-19 23:03:35 -0000 (Tue, 19 Nov 2024) EndedAt: 2024-11-19 23:04:11 -0000 (Tue, 19 Nov 2024) EllapsedTime: 36.0 seconds RetCode: 0 Status: OK PackageFile: BEclear_2.22.0.tar.gz PackageFileSize: 658.2 KiB