Package: BEclear Version: 2.22.0 Command: /home/biocbuild/R/R/bin/R CMD check --install=check:BEclear.install-out.txt --library=/home/biocbuild/R/R/site-library --no-vignettes --timings BEclear_2.22.0.tar.gz StartedAt: 2024-11-20 05:27:12 -0000 (Wed, 20 Nov 2024) EndedAt: 2024-11-20 05:28:36 -0000 (Wed, 20 Nov 2024) EllapsedTime: 84.1 seconds RetCode: 0 Status: OK CheckDir: BEclear.Rcheck Warnings: 0