Package: BEclear Version: 2.22.0 Command: rm -rf BEclear.buildbin-libdir && mkdir BEclear.buildbin-libdir && /Users/biocbuild/BBS/utils/build-universal.sh BEclear_2.22.0.tar.gz /Library/Frameworks/R.framework/Resources/bin/R BEclear.buildbin-libdir StartedAt: 2025-01-31 12:23:03 -0500 (Fri, 31 Jan 2025) EndedAt: 2025-01-31 12:23:32 -0500 (Fri, 31 Jan 2025) EllapsedTime: 29.1 seconds RetCode: 0 Status: OK PackageFile: BEclear_2.22.0.tgz PackageFileSize: 797.9 KiB