Package: BEclear Version: 2.22.0 Command: /home/biocbuild/bbs-3.20-bioc/R/bin/R CMD check --install=check:BEclear.install-out.txt --library=/home/biocbuild/bbs-3.20-bioc/R/site-library --timings BEclear_2.22.0.tar.gz StartedAt: 2025-01-30 20:08:41 -0500 (Thu, 30 Jan 2025) EndedAt: 2025-01-30 20:09:47 -0500 (Thu, 30 Jan 2025) EllapsedTime: 66.1 seconds RetCode: 0 Status: OK CheckDir: BEclear.Rcheck Warnings: 0