Package: BEclear Version: 2.22.0 Command: /home/biocbuild/bbs-3.20-bioc/R/bin/R CMD INSTALL BEclear StartedAt: 2025-01-30 15:17:45 -0500 (Thu, 30 Jan 2025) EndedAt: 2025-01-30 15:17:57 -0500 (Thu, 30 Jan 2025) EllapsedTime: 12.7 seconds RetCode: 0 Status: OK