Package: BEclear Version: 2.22.0 Command: chmod a+r BEclear -R && F:\biocbuild\bbs-3.20-bioc\R\bin\R.exe CMD build --keep-empty-dirs --no-resave-data BEclear StartedAt: 2025-01-30 17:27:00 -0500 (Thu, 30 Jan 2025) EndedAt: 2025-01-30 17:27:41 -0500 (Thu, 30 Jan 2025) EllapsedTime: 40.9 seconds RetCode: 0 Status: OK PackageFile: BEclear_2.22.0.tar.gz PackageFileSize: 575 KiB