Package: BEclear Version: 2.22.0 Command: F:\biocbuild\bbs-3.20-bioc\R\bin\R.exe CMD check --no-multiarch --install=check:BEclear.install-out.txt --library=F:\biocbuild\bbs-3.20-bioc\R\library --no-vignettes --timings BEclear_2.22.0.tar.gz StartedAt: 2025-01-30 23:39:12 -0500 (Thu, 30 Jan 2025) EndedAt: 2025-01-30 23:40:51 -0500 (Thu, 30 Jan 2025) EllapsedTime: 99.3 seconds RetCode: 0 Status: OK CheckDir: BEclear.Rcheck Warnings: 0