Package: BEclear Version: 2.22.0 Command: /home/biocbuild/R/R/bin/R CMD check --install=check:BEclear.install-out.txt --library=/home/biocbuild/R/R/site-library --no-vignettes --timings BEclear_2.22.0.tar.gz StartedAt: 2025-02-04 04:40:30 -0000 (Tue, 04 Feb 2025) EndedAt: 2025-02-04 04:42:10 -0000 (Tue, 04 Feb 2025) EllapsedTime: 99.2 seconds RetCode: 0 Status: OK CheckDir: BEclear.Rcheck Warnings: 0