Package: BLMA Version: 1.30.0 Command: /Library/Frameworks/R.framework/Resources/bin/R CMD check --install=check:BLMA.install-out.txt --library=/Library/Frameworks/R.framework/Resources/library --no-vignettes --timings BLMA_1.30.0.tar.gz StartedAt: 2025-02-04 00:30:49 -0500 (Tue, 04 Feb 2025) EndedAt: 2025-02-04 00:47:22 -0500 (Tue, 04 Feb 2025) EllapsedTime: 992.8 seconds RetCode: 0 Status: OK CheckDir: BLMA.Rcheck Warnings: 0