Package: BLMA Version: 1.30.0 Command: /home/biocbuild/bbs-3.20-bioc/R/bin/R CMD INSTALL BLMA StartedAt: 2025-02-03 15:28:49 -0500 (Mon, 03 Feb 2025) EndedAt: 2025-02-03 15:29:07 -0500 (Mon, 03 Feb 2025) EllapsedTime: 18.3 seconds RetCode: 0 Status: OK