Package: BLMA Version: 1.30.0 Command: F:\biocbuild\bbs-3.20-bioc\R\bin\R.exe CMD check --no-multiarch --install=check:BLMA.install-out.txt --library=F:\biocbuild\bbs-3.20-bioc\R\library --no-vignettes --timings BLMA_1.30.0.tar.gz StartedAt: 2025-02-03 23:45:00 -0500 (Mon, 03 Feb 2025) EndedAt: 2025-02-03 23:53:48 -0500 (Mon, 03 Feb 2025) EllapsedTime: 527.6 seconds RetCode: 0 Status: OK CheckDir: BLMA.Rcheck Warnings: 0