Package: BOBaFIT Version: 1.10.0 Command: rm -rf BOBaFIT.buildbin-libdir && mkdir BOBaFIT.buildbin-libdir && /Users/biocbuild/BBS/utils/build-universal.sh BOBaFIT_1.10.0.tar.gz /Library/Frameworks/R.framework/Resources/bin/R BOBaFIT.buildbin-libdir StartedAt: 2025-02-04 12:33:48 -0500 (Tue, 04 Feb 2025) EndedAt: 2025-02-04 12:35:38 -0500 (Tue, 04 Feb 2025) EllapsedTime: 110.0 seconds RetCode: 0 Status: OK PackageFile: BOBaFIT_1.10.0.tgz PackageFileSize: 2.447 MiB