Package: BOBaFIT Version: 1.10.0 Command: chmod a+r BOBaFIT -R && F:\biocbuild\bbs-3.20-bioc\R\bin\R.exe CMD build --keep-empty-dirs --no-resave-data BOBaFIT StartedAt: 2025-02-17 17:38:55 -0500 (Mon, 17 Feb 2025) EndedAt: 2025-02-17 17:41:07 -0500 (Mon, 17 Feb 2025) EllapsedTime: 132.3 seconds RetCode: 0 Status: OK PackageFile: BOBaFIT_1.10.0.tar.gz PackageFileSize: 2.498 <A href="http://en.wikipedia.org/wiki/MiB" target="_blank">MiB</A>