Package: BPRMeth Version: 1.32.0 Command: /Library/Frameworks/R.framework/Resources/bin/R CMD build --keep-empty-dirs --no-resave-data BPRMeth StartedAt: 2025-02-03 19:46:57 -0500 (Mon, 03 Feb 2025) EndedAt: 2025-02-03 19:48:39 -0500 (Mon, 03 Feb 2025) EllapsedTime: 101.7 seconds RetCode: 0 Status: OK PackageFile: BPRMeth_1.32.0.tar.gz PackageFileSize: 3.275 MiB