Package: BPRMeth Version: 1.32.0 Command: /Library/Frameworks/R.framework/Resources/bin/R CMD INSTALL BPRMeth StartedAt: 2025-02-17 16:46:32 -0500 (Mon, 17 Feb 2025) EndedAt: 2025-02-17 16:46:59 -0500 (Mon, 17 Feb 2025) EllapsedTime: 27.9 seconds RetCode: 0 Status: OK