Package: BPRMeth
Version: 1.32.0
Command: /Library/Frameworks/R.framework/Resources/bin/R CMD INSTALL BPRMeth
StartedAt: 2024-11-08 15:32:19 -0500 (Fri, 08 Nov 2024)
EndedAt: 2024-11-08 15:32:27 -0500 (Fri, 08 Nov 2024)
EllapsedTime: 8.6 seconds
RetCode: 0
Status: OK