Package: BPRMeth Version: 1.32.0 Command: rm -rf BPRMeth.buildbin-libdir && mkdir BPRMeth.buildbin-libdir && /Users/biocbuild/BBS/utils/build-universal.sh BPRMeth_1.32.0.tar.gz /Library/Frameworks/R.framework/Resources/bin/R BPRMeth.buildbin-libdir StartedAt: 2025-02-04 12:34:00 -0500 (Tue, 04 Feb 2025) EndedAt: 2025-02-04 12:35:05 -0500 (Tue, 04 Feb 2025) EllapsedTime: 64.9 seconds RetCode: 0 Status: OK PackageFile: BPRMeth_1.32.0.tgz PackageFileSize: 3.792 MiB