Package: BPRMeth
Version: 1.31.0
Command: chmod a+r BPRMeth -R && F:\biocbuild\bbs-3.20-bioc\R\bin\R.exe CMD build --keep-empty-dirs --no-resave-data BPRMeth
StartedAt: 2024-06-09 17:38:28 -0400 (Sun, 09 Jun 2024)
EndedAt: 2024-06-09 17:41:22 -0400 (Sun, 09 Jun 2024)
EllapsedTime: 173.5 seconds
RetCode: 0
Status: OK
PackageFile: BPRMeth_1.31.0.tar.gz
PackageFileSize: 2.48 <A href="http://en.wikipedia.org/wiki/MiB" target="_blank">MiB</A>