##############################################################################
##############################################################################
###
### Running command:
###
###   rm -rf BPRMeth.buildbin-libdir && mkdir BPRMeth.buildbin-libdir && C:\Users\biocbuild\bbs-3.20-bioc\R\bin\R.exe CMD INSTALL --build --library=BPRMeth.buildbin-libdir BPRMeth_1.31.0.tar.gz
###
##############################################################################
##############################################################################


* installing *source* package 'BPRMeth' ...
** using staged installation
** libs
using C++ compiler: 'G__~1.EXE (GCC) 13.2.0'
using C++11
g++  -std=gnu++11 -I"C:/Users/biocbuild/bbs-3.20-bioc/R/include" -DNDEBUG  -I'C:/Users/biocbuild/bbs-3.20-bioc/R/library/Rcpp/include' -I'C:/Users/biocbuild/bbs-3.20-bioc/R/library/RcppArmadillo/include'   -I"C:/rtools44/x86_64-w64-mingw32.static.posix/include"  -fopenmp    -O2 -Wall  -mfpmath=sse -msse2 -mstackrealign  -c RcppExports.cpp -o RcppExports.o
g++  -std=gnu++11 -I"C:/Users/biocbuild/bbs-3.20-bioc/R/include" -DNDEBUG  -I'C:/Users/biocbuild/bbs-3.20-bioc/R/library/Rcpp/include' -I'C:/Users/biocbuild/bbs-3.20-bioc/R/library/RcppArmadillo/include'   -I"C:/rtools44/x86_64-w64-mingw32.static.posix/include"  -fopenmp    -O2 -Wall  -mfpmath=sse -msse2 -mstackrealign  -c model_likelihood.cpp -o model_likelihood.o
g++ -shared -s -static-libgcc -o BPRMeth.dll tmp.def RcppExports.o model_likelihood.o -fopenmp -LC:/Users/biocbuild/bbs-3.20-bioc/R/bin/x64 -lRlapack -LC:/Users/biocbuild/bbs-3.20-bioc/R/bin/x64 -lRblas -lgfortran -lm -lquadmath -LC:/rtools44/x86_64-w64-mingw32.static.posix/lib/x64 -LC:/rtools44/x86_64-w64-mingw32.static.posix/lib -LC:/Users/biocbuild/bbs-3.20-bioc/R/bin/x64 -lR
installing to C:/Users/biocbuild/bbs-3.20-bioc/meat/BPRMeth.buildbin-libdir/00LOCK-BPRMeth/00new/BPRMeth/libs/x64
** R
** data
*** moving datasets to lazyload DB
** inst
** byte-compile and prepare package for lazy loading
** help
*** installing help indices
** building package indices
** installing vignettes
** testing if installed package can be loaded from temporary location
** testing if installed package can be loaded from final location
** testing if installed package keeps a record of temporary installation path
* MD5 sums
packaged installation of 'BPRMeth' as BPRMeth_1.31.0.zip
* DONE (BPRMeth)