Package: BPRMeth
Version: 1.31.0
Command: chmod a+r BPRMeth -R && C:\Users\biocbuild\bbs-3.20-bioc\R\bin\R.exe CMD build --keep-empty-dirs --no-resave-data BPRMeth
StartedAt: 2024-07-15 16:50:38 -0400 (Mon, 15 Jul 2024)
EndedAt: 2024-07-15 16:53:00 -0400 (Mon, 15 Jul 2024)
EllapsedTime: 141.9 seconds
RetCode: 0
Status: OK
PackageFile: BPRMeth_1.31.0.tar.gz
PackageFileSize: 2.48 <A href="http://en.wikipedia.org/wiki/MiB" target="_blank">MiB</A>