Package: BPRMeth Version: 1.32.0 Command: rm -rf BPRMeth.buildbin-libdir && mkdir BPRMeth.buildbin-libdir && F:\biocbuild\bbs-3.20-bioc\R\bin\R.exe CMD INSTALL --build --library=BPRMeth.buildbin-libdir BPRMeth_1.32.0.tar.gz StartedAt: 2025-02-04 08:05:49 -0500 (Tue, 04 Feb 2025) EndedAt: 2025-02-04 08:06:51 -0500 (Tue, 04 Feb 2025) EllapsedTime: 62.2 seconds RetCode: 0 Status: OK PackageFile: BPRMeth_1.32.0.zip PackageFileSize: 3.299 MiB