Package: BPRMeth Version: 1.32.0 Command: chmod a+r BPRMeth -R && F:\biocbuild\bbs-3.20-bioc\R\bin\R.exe CMD build --keep-empty-dirs --no-resave-data BPRMeth StartedAt: 2025-02-03 17:52:24 -0500 (Mon, 03 Feb 2025) EndedAt: 2025-02-03 17:55:17 -0500 (Mon, 03 Feb 2025) EllapsedTime: 173.3 seconds RetCode: 0 Status: OK PackageFile: BPRMeth_1.32.0.tar.gz PackageFileSize: 2.48 MiB