Package: BPRMeth Version: 1.32.0 Command: /home/biocbuild/R/R/bin/R CMD build --keep-empty-dirs --no-resave-data BPRMeth StartedAt: 2025-02-03 22:16:14 -0000 (Mon, 03 Feb 2025) EndedAt: 2025-02-03 22:18:12 -0000 (Mon, 03 Feb 2025) EllapsedTime: 118.0 seconds RetCode: 0 Status: OK PackageFile: BPRMeth_1.32.0.tar.gz PackageFileSize: 2.685 MiB