Package: BRGenomics Version: 1.18.0 Command: rm -rf BRGenomics.buildbin-libdir && mkdir BRGenomics.buildbin-libdir && /Users/biocbuild/BBS/utils/build-universal.sh BRGenomics_1.18.0.tar.gz /Library/Frameworks/R.framework/Resources/bin/R BRGenomics.buildbin-libdir StartedAt: 2025-02-05 15:03:10 -0500 (Wed, 05 Feb 2025) EndedAt: 2025-02-05 15:03:54 -0500 (Wed, 05 Feb 2025) EllapsedTime: 44.9 seconds RetCode: 0 Status: OK PackageFile: BRGenomics_1.18.0.tgz PackageFileSize: 4.094 MiB