Package: BRGenomics Version: 1.18.0 Command: /Library/Frameworks/R.framework/Resources/bin/R CMD build --keep-empty-dirs --no-resave-data BRGenomics StartedAt: 2025-02-03 19:49:23 -0500 (Mon, 03 Feb 2025) EndedAt: 2025-02-03 19:51:07 -0500 (Mon, 03 Feb 2025) EllapsedTime: 104.5 seconds RetCode: 0 Status: OK PackageFile: BRGenomics_1.18.0.tar.gz PackageFileSize: 3.967 MiB