Package: BRGenomics Version: 1.18.0 Command: /Library/Frameworks/R.framework/Resources/bin/R CMD check --install=check:BRGenomics.install-out.txt --library=/Library/Frameworks/R.framework/Resources/library --no-vignettes --timings BRGenomics_1.18.0.tar.gz StartedAt: 2025-02-04 13:22:26 -0500 (Tue, 04 Feb 2025) EndedAt: 2025-02-04 14:02:26 -0500 (Tue, 04 Feb 2025) EllapsedTime: 2400.0 seconds RetCode: None Status: TIMEOUT CheckDir: BRGenomics.Rcheck Warnings: NA