Package: BRGenomics Version: 1.18.0 Command: /Library/Frameworks/R.framework/Resources/bin/R CMD INSTALL BRGenomics StartedAt: 2025-02-03 15:48:45 -0500 (Mon, 03 Feb 2025) EndedAt: 2025-02-03 15:49:25 -0500 (Mon, 03 Feb 2025) EllapsedTime: 40.0 seconds RetCode: 0 Status: OK