Package: BRGenomics Version: 1.18.0 Command: /home/biocbuild/bbs-3.20-bioc/R/bin/R CMD build --keep-empty-dirs --no-resave-data --md5 BRGenomics StartedAt: 2025-02-03 16:39:21 -0500 (Mon, 03 Feb 2025) EndedAt: 2025-02-03 16:40:42 -0500 (Mon, 03 Feb 2025) EllapsedTime: 81.1 seconds RetCode: 0 Status: OK PackageFile: BRGenomics_1.18.0.tar.gz PackageFileSize: 4.195 MiB