Package: BRGenomics Version: 1.18.0 Command: /home/biocbuild/bbs-3.20-bioc/R/bin/R CMD INSTALL BRGenomics StartedAt: 2025-02-03 15:30:18 -0500 (Mon, 03 Feb 2025) EndedAt: 2025-02-03 15:30:52 -0500 (Mon, 03 Feb 2025) EllapsedTime: 33.9 seconds RetCode: 0 Status: OK