Package: BRGenomics
Version: 1.17.0
Command: chmod a+r BRGenomics -R && C:\Users\biocbuild\bbs-3.20-bioc\R\bin\R.exe CMD build --keep-empty-dirs --no-resave-data BRGenomics
StartedAt: 2024-07-15 16:51:28 -0400 (Mon, 15 Jul 2024)
EndedAt: 2024-07-15 16:53:16 -0400 (Mon, 15 Jul 2024)
EllapsedTime: 108.8 seconds
RetCode: 0
Status: OK
PackageFile: BRGenomics_1.17.0.tar.gz
PackageFileSize: 3.638 <A href="http://en.wikipedia.org/wiki/MiB" target="_blank">MiB</A>