Package: BRGenomics Version: 1.18.0 Command: /home/biocbuild/R/R/bin/R CMD build --keep-empty-dirs --no-resave-data BRGenomics StartedAt: 2025-02-03 22:18:01 -0000 (Mon, 03 Feb 2025) EndedAt: 2025-02-03 22:19:50 -0000 (Mon, 03 Feb 2025) EllapsedTime: 109.0 seconds RetCode: 0 Status: OK PackageFile: BRGenomics_1.18.0.tar.gz PackageFileSize: 4.399 MiB