Package: BRGenomics Version: 1.18.0 Command: /home/biocbuild/R/R/bin/R CMD check --install=check:BRGenomics.install-out.txt --library=/home/biocbuild/R/R/site-library --no-vignettes --timings BRGenomics_1.18.0.tar.gz StartedAt: 2025-02-04 05:13:13 -0000 (Tue, 04 Feb 2025) EndedAt: 2025-02-04 05:53:13 -0000 (Tue, 04 Feb 2025) EllapsedTime: 2400.1 seconds RetCode: None Status: TIMEOUT CheckDir: BRGenomics.Rcheck Warnings: NA