Package: BRGenomics Version: 1.18.0 Command: /home/biocbuild/R/R/bin/R CMD INSTALL BRGenomics StartedAt: 2025-02-03 20:39:28 -0000 (Mon, 03 Feb 2025) EndedAt: 2025-02-03 20:40:09 -0000 (Mon, 03 Feb 2025) EllapsedTime: 41.4 seconds RetCode: 0 Status: OK