Package: BSgenome Version: 1.74.0 Command: /Library/Frameworks/R.framework/Resources/bin/R CMD INSTALL BSgenome StartedAt: 2025-02-03 15:55:30 -0500 (Mon, 03 Feb 2025) EndedAt: 2025-02-03 15:56:18 -0500 (Mon, 03 Feb 2025) EllapsedTime: 48.3 seconds RetCode: 0 Status: OK