Package: BSgenome Version: 1.74.0 Command: rm -rf BSgenome.buildbin-libdir && mkdir BSgenome.buildbin-libdir && /Users/biocbuild/BBS/utils/build-universal.sh BSgenome_1.74.0.tar.gz /Library/Frameworks/R.framework/Resources/bin/R BSgenome.buildbin-libdir StartedAt: 2025-02-04 12:34:30 -0500 (Tue, 04 Feb 2025) EndedAt: 2025-02-04 12:36:08 -0500 (Tue, 04 Feb 2025) EllapsedTime: 97.8 seconds RetCode: 0 Status: OK PackageFile: BSgenome_1.74.0.tgz PackageFileSize: 6.968 MiB