Package: BSgenome Version: 1.74.0 Command: /Library/Frameworks/R.framework/Resources/bin/R CMD build --keep-empty-dirs --no-resave-data BSgenome StartedAt: 2025-02-03 17:34:12 -0500 (Mon, 03 Feb 2025) EndedAt: 2025-02-03 17:37:17 -0500 (Mon, 03 Feb 2025) EllapsedTime: 185.1 seconds RetCode: 0 Status: OK PackageFile: BSgenome_1.74.0.tar.gz PackageFileSize: 5.628 MiB